BEGIN:VCALENDAR
VERSION:2.0
PRODID:-//Maroniteparchy - ECPv6.0.4//NONSGML v1.0//EN
CALSCALE:GREGORIAN
METHOD:PUBLISH
X-WR-CALNAME:Maroniteparchy
X-ORIGINAL-URL:https://maroniteparchy.org.cy
X-WR-CALDESC:Events for Maroniteparchy
REFRESH-INTERVAL;VALUE=DURATION:PT1H
X-Robots-Tag:noindex
X-PUBLISHED-TTL:PT1H
BEGIN:VTIMEZONE
TZID:UTC
BEGIN:STANDARD
TZOFFSETFROM:+0000
TZOFFSETTO:+0000
TZNAME:UTC
DTSTART:20220101T000000
END:STANDARD
END:VTIMEZONE
BEGIN:VEVENT
DTSTART;TZID=UTC:20221111T183000
DTEND;TZID=UTC:20221111T220000
DTSTAMP:20260424T192143
CREATED:20221124T060154Z
LAST-MODIFIED:20221124T060350Z
UID:1519-1668191400-1668204000@maroniteparchy.org.cy
SUMMARY:Anthoupolis\, Nicosia
DESCRIPTION:St Maron Church \nHoly Mass: \nWeekdays: 6.30 p.m \nSundays: 8.30 am \nParish Priest: \nFr Iosif Skender \nContact Details: \nTel. (mobile): 99-589874 \nFax: 22-720049 \nEmail: iosif.skender@gmail.com
URL:https://maroniteparchy.org.cy/event/anthoupolis-nicosia/
CATEGORIES:Anthoupolis
ATTACH;FMTTYPE=image/png:https://maroniteparchy.org.cy/wp-content/uploads/2022/11/6.png
END:VEVENT
END:VCALENDAR