BEGIN:VCALENDAR
VERSION:2.0
PRODID:-//Maroniteparchy - ECPv6.0.4//NONSGML v1.0//EN
CALSCALE:GREGORIAN
METHOD:PUBLISH
X-WR-CALNAME:Maroniteparchy
X-ORIGINAL-URL:https://maroniteparchy.org.cy
X-WR-CALDESC:Events for Maroniteparchy
REFRESH-INTERVAL;VALUE=DURATION:PT1H
X-Robots-Tag:noindex
X-PUBLISHED-TTL:PT1H
BEGIN:VTIMEZONE
TZID:UTC
BEGIN:STANDARD
TZOFFSETFROM:+0000
TZOFFSETTO:+0000
TZNAME:UTC
DTSTART:20220101T000000
END:STANDARD
END:VTIMEZONE
BEGIN:VEVENT
DTSTART;TZID=UTC:20221114T083000
DTEND;TZID=UTC:20221114T170000
DTSTAMP:20260424T192143
CREATED:20221124T063213Z
LAST-MODIFIED:20221124T063830Z
UID:1531-1668414600-1668445200@maroniteparchy.org.cy
SUMMARY:Polemidia\, Limassol
DESCRIPTION:St Marina’s Church \nHoly Mass: \nNo Daily Mass The time of masses on feast days is 6:00 p.m. This will be announced weekly. Sunday Mass: 8:30 a.m. N.B: Mass time on big feast (e.g.: Easter) may change. \nParish Priest: \nRev. Father \nJoseph Tartak \nContact Details: \nMobile: 0035799 258134 \nEmail: josephtartak@gmail.com
URL:https://maroniteparchy.org.cy/event/polemidia-limassol/
CATEGORIES:Polemidia
ATTACH;FMTTYPE=image/png:https://maroniteparchy.org.cy/wp-content/uploads/2022/11/10.png
END:VEVENT
END:VCALENDAR