BEGIN:VCALENDAR
VERSION:2.0
PRODID:-//Maroniteparchy - ECPv6.0.4//NONSGML v1.0//EN
CALSCALE:GREGORIAN
METHOD:PUBLISH
X-ORIGINAL-URL:https://maroniteparchy.org.cy
X-WR-CALDESC:Events for Maroniteparchy
REFRESH-INTERVAL;VALUE=DURATION:PT1H
X-Robots-Tag:noindex
X-PUBLISHED-TTL:PT1H
BEGIN:VTIMEZONE
TZID:UTC
BEGIN:STANDARD
TZOFFSETFROM:+0000
TZOFFSETTO:+0000
TZNAME:UTC
DTSTART:20220101T000000
END:STANDARD
END:VTIMEZONE
BEGIN:VEVENT
DTSTART;TZID=UTC:20221119T110000
DTEND;TZID=UTC:20221119T170000
DTSTAMP:20260424T192414
CREATED:20221124T061000Z
LAST-MODIFIED:20221124T063853Z
UID:1523-1668855600-1668877200@maroniteparchy.org.cy
SUMMARY:Paphos
DESCRIPTION:St Kyriaki’s Church \nHoly Mass: \nThe Maronite Community in Paphos celebrates the mass in this church every Sunday of the month \nat 11:00 a.m. \nParish Priest: \nRev. Father \nJoseph Tartak \nContact Details: \nMobile: 0035799 258134 \nEmail: josephtartak@gmail.com
URL:https://maroniteparchy.org.cy/event/paphos/
CATEGORIES:Paphos
ATTACH;FMTTYPE=image/png:https://maroniteparchy.org.cy/wp-content/uploads/2022/11/8.png
END:VEVENT
END:VCALENDAR