BEGIN:VCALENDAR
VERSION:2.0
PRODID:-//Maroniteparchy - ECPv6.0.4//NONSGML v1.0//EN
CALSCALE:GREGORIAN
METHOD:PUBLISH
X-ORIGINAL-URL:https://maroniteparchy.org.cy
X-WR-CALDESC:Events for Maroniteparchy
REFRESH-INTERVAL;VALUE=DURATION:PT1H
X-Robots-Tag:noindex
X-PUBLISHED-TTL:PT1H
BEGIN:VTIMEZONE
TZID:UTC
BEGIN:STANDARD
TZOFFSETFROM:+0000
TZOFFSETTO:+0000
TZNAME:UTC
DTSTART:20220101T000000
END:STANDARD
END:VTIMEZONE
BEGIN:VEVENT
DTSTART;TZID=UTC:20221120T090000
DTEND;TZID=UTC:20221120T170000
DTSTAMP:20260424T192414
CREATED:20221124T061530Z
LAST-MODIFIED:20221124T063859Z
UID:1525-1668934800-1668963600@maroniteparchy.org.cy
SUMMARY:Kotsiatis\, Nicosia
DESCRIPTION:St Marina’s Church \nHoly Mass: \nSundays: 9.00a.m. \nParish Priest: \nRev. Fr. Iosif Lakotripes Michaelides \nContact Details: \nTel. (mobile): 99631689 \nFax: 00357- 22525445 \nEmail: jmusic@cytanet.com.cy
URL:https://maroniteparchy.org.cy/event/kotsiatis-nicosia/
CATEGORIES:Kotsiatis
ATTACH;FMTTYPE=image/png:https://maroniteparchy.org.cy/wp-content/uploads/2022/11/5.png
END:VEVENT
END:VCALENDAR